{"text_format":"3","workbook":"xlsx","n_sheets":1,"sheets":["1"],"not_rendered":{"external_links":1},"read":"whole","date_system":"1900"}

{"sheet":"1","index":0,"n_rows":18,"n_cols":10,"rows_kept":18,"merged":[[0,1,0,3]]}
["Школа","МБОУ \"Гимназия №94\"",null,null,"Отд./корп",{"$nulls":3},"День","2025-09-05"]
[]
["Прием пищи","Раздел","№ рец.","Блюдо","Выход, г","Цена","Калорийность","Белки","Жиры","Углеводы"]
["Завтрак","гор.блюдо",{"$f":"[1]Лист1!$K$82","v":"ТТК июль 2021г"},{"$f":"[1]Лист1!E82","v":"Фрикассе из куриных грудок"},{"$f":"[1]Лист1!F82","v":90},{"$f":"[1]Лист1!$L$81","v":89.77},113,{"$f":"[1]Лист1!G82","v":{"v":8.026,"d":"8"}},{"$f":"[1]Лист1!H82","v":{"v":8.476,"d":"8"}},{"$f":"[1]Лист1!I82","v":{"v":1.236,"d":"1"}}]
[null,"гор.напиток",{"$f":"[1]Лист1!$K$84","v":"ТТК №2694 от 14.09.2023г"},{"$f":"[1]Лист1!E84","v":"Напиток из вишни"},{"$f":"[1]Лист1!F84","v":200},null,48,{"$f":"[1]Лист1!G84","v":{"v":0.12,"d":"0"}},{"$f":"[1]Лист1!H84","v":{"v":0.03,"d":"0"}},{"$f":"[1]Лист1!I84","v":{"v":11.57,"d":"12"}}]
[null,"хлеб",null,{"$f":"[1]Лист1!E85","v":"Хлеб ржано-пшеничный/ Хлеб пшеничный"},{"$f":"[1]Лист1!F85","v":40},null,91,{"$f":"[1]Лист1!G85","v":{"v":2.52,"d":"3"}},{"$f":"[1]Лист1!H85","v":{"v":0.36,"d":"0"}},{"$f":"[1]Лист1!I85","v":{"v":18.84,"d":"19"}}]
[null,{"$f":"$B$4","v":"гор.блюдо"},{"$f":"[1]Лист1!$K$83","v":"№309/2015г Дели"},{"$f":"[1]Лист1!E83","v":"Макаронные изделия отварные"},{"$f":"[1]Лист1!F83","v":150},null,174,{"$f":"[1]Лист1!G83","v":{"v":5.602,"d":"6"}},{"$f":"[1]Лист1!H83","v":{"v":3.868,"d":"4"}},{"$f":"[1]Лист1!I83","v":{"v":29.306,"d":"29"}}]
[null,{"$f":"$B$12","v":"закуска"},{"$f":"[1]Лист1!$K$87","v":"№52/2015г,Дели"},{"$f":"[1]Лист1!E87","v":"Салат из свеклы отварной (с маслом)"},{"$f":"[1]Лист1!F87","v":60},null,56,{"$f":"[1]Лист1!G87","v":{"v":0.855,"d":"1"}},{"$f":"[1]Лист1!H87","v":{"v":3.653,"d":"4"}},{"$f":"[1]Лист1!I87","v":{"v":5.016,"d":"5"}}]
["Завтрак 2","фрукты",null,{"$f":"[1]Лист1!E86","v":"Фруктовое пюре"},{"$f":"[1]Лист1!F86","v":125},null,60,{"$f":"[1]Лист1!G86","v":0},{"$f":"[1]Лист1!H86","v":0},{"$f":"[1]Лист1!I86","v":15}]
[]
[]
["Обед","закуска"]
[null,"1 блюдо"]
[null,"2 блюдо"]
[null,"гарнир"]
[null,"сладкое"]
[null,"хлеб бел."]
[null,"хлеб черн."]